BEGIN:VCALENDAR
VERSION:2.0
PRODID:SchoolNow
CALSCALE:GREGORIAN
BEGIN:VEVENT
UID:82c1f312-edac-11ec-abbe-0255699ffb2d
DTSTAMP:20220616T194629Z
SUMMARY:No School - Teacher Institute Day
URL;VALUE=URI:https://www.niles71.org/about-us/calendar/3221892/teacher-ins
 titute-day
DTSTART:20220822T194200Z
DTEND:20220822T204200Z
END:VEVENT
END:VCALENDAR
