BEGIN:VCALENDAR
VERSION:2.0
PRODID:SchoolNow
CALSCALE:GREGORIAN
BEGIN:VEVENT
UID:93098d5c-edac-11ec-a219-0255699ffb2d
DTSTAMP:20220616T194413Z
SUMMARY:No School - Labor Day
URL;VALUE=URI:https://www.niles71.org/about-us/calendar/3221893/no-school-l
 abor-day
DTSTART:20220905T194200Z
DTEND:20220905T204200Z
END:VEVENT
END:VCALENDAR
