BEGIN:VCALENDAR
VERSION:2.0
PRODID:SchoolNow
CALSCALE:GREGORIAN
BEGIN:VEVENT
UID:922ce862-edb5-11ec-b695-0a30c8de4f4d
DTSTAMP:20220616T204743Z
SUMMARY:Early Release @ 11:30am
URL;VALUE=URI:https://www.niles71.org/about-us/calendar/3221996/early-relea
 se-11-30am
DTSTART:20220902T233000Z
DTEND:20220903T003000Z
END:VEVENT
END:VCALENDAR
