BEGIN:VCALENDAR
VERSION:2.0
PRODID:SchoolNow
CALSCALE:GREGORIAN
BEGIN:VEVENT
UID:acc89c7e-0bbf-11ee-89ae-0e02a06a3f21
DTSTAMP:20230810T155048Z
SUMMARY:Board of Education Meeting
URL;VALUE=URI:https://www.niles71.org/about-us/calendar/4394311/board-of-ed
 ucation-meeting
DTSTART:20231114T190000Z
DTEND:20231114T200000Z
END:VEVENT
END:VCALENDAR
