BEGIN:VCALENDAR
VERSION:2.0
PRODID:SchoolNow
CALSCALE:GREGORIAN
BEGIN:VEVENT
UID:c45a2efc-0bbf-11ee-8fba-0e02a06a3f21
DTSTAMP:20231120T154853Z
SUMMARY:Board of Education Meeting
URL;VALUE=URI:https://www.niles71.org/about-us/calendar/4394312/board-of-ed
 ucation-meeting
DTSTART:20231212T190000Z
DTEND:20231212T200000Z
END:VEVENT
END:VCALENDAR
