BEGIN:VCALENDAR
VERSION:2.0
PRODID:SchoolNow
CALSCALE:GREGORIAN
BEGIN:VEVENT
UID:e37e54de-0bbf-11ee-8199-0e02a06a3f21
DTSTAMP:20230615T210207Z
SUMMARY:Board of Education Meeting
URL;VALUE=URI:https://www.niles71.org/about-us/calendar/4394314/board-of-ed
 ucation-meeting
DTSTART:20240116T190000Z
DTEND:20240116T200000Z
END:VEVENT
END:VCALENDAR
