BEGIN:VCALENDAR
VERSION:2.0
PRODID:SchoolNow
CALSCALE:GREGORIAN
BEGIN:VEVENT
UID:e3640196-0bc0-11ee-b40e-02dd0c895835
DTSTAMP:20230615T210917Z
SUMMARY:Board of Education Meeting
URL;VALUE=URI:https://www.niles71.org/about-us/calendar/4394322/board-of-ed
 ucation-meeting
DTSTART:20240220T190000Z
DTEND:20240220T200000Z
END:VEVENT
END:VCALENDAR
