BEGIN:VCALENDAR
VERSION:2.0
PRODID:SchoolNow
CALSCALE:GREGORIAN
BEGIN:VEVENT
UID:03a56d28-0bc1-11ee-8256-02dd0c895835
DTSTAMP:20230615T211011Z
SUMMARY:Board of Education Meeting
URL;VALUE=URI:https://www.niles71.org/about-us/calendar/4394323/board-of-ed
 ucation-meeting
DTSTART:20240319T190000Z
DTEND:20240319T200000Z
END:VEVENT
END:VCALENDAR
