BEGIN:VCALENDAR
VERSION:2.0
PRODID:SchoolNow
CALSCALE:GREGORIAN
BEGIN:VEVENT
UID:36d28eb0-0bc1-11ee-82dc-02dd0c895835
DTSTAMP:20240517T154759Z
SUMMARY:Board of Education Meeting
URL;VALUE=URI:https://www.niles71.org/about-us/calendar/4394325/board-of-ed
 ucation-meeting
DTSTART:20240521T180000Z
DTEND:20240521T190000Z
END:VEVENT
END:VCALENDAR
