BEGIN:VCALENDAR
VERSION:2.0
PRODID:SchoolNow
CALSCALE:GREGORIAN
BEGIN:VEVENT
UID:91fb640a-0faa-11ee-9729-02f583e27a7f
DTSTAMP:20230620T205057Z
SUMMARY:Last Day of School for Preschool
URL;VALUE=URI:https://www.niles71.org/about-us/calendar/4414654/last-day-of
 -schoo
DTSTART;VALUE=DATE:20240529
DTEND;VALUE=DATE:20240530
END:VEVENT
END:VCALENDAR
