BEGIN:VCALENDAR
VERSION:2.0
PRODID:SchoolNow
CALSCALE:GREGORIAN
BEGIN:VEVENT
UID:5733822e-0fac-11ee-9d70-02f583e27a7f
DTSTAMP:20230620T205216Z
SUMMARY:Last Day of School
URL;VALUE=URI:https://www.niles71.org/about-us/calendar/4414655/last-day-of
 -school
DTSTART:20240531T233000Z
DTEND:20240601T003000Z
END:VEVENT
END:VCALENDAR
