BEGIN:VCALENDAR
VERSION:2.0
PRODID:SchoolNow
CALSCALE:GREGORIAN
BEGIN:VEVENT
UID:32bf95fa-104b-11ee-8fdb-0e399338071b
DTSTAMP:20230621T154925Z
SUMMARY:No School  - Not in Attendance
URL;VALUE=URI:https://www.niles71.org/about-us/calendar/4417721/no-school-n
 ot-in-attendance
DTSTART;VALUE=DATE:20231009
DTEND;VALUE=DATE:20231010
END:VEVENT
END:VCALENDAR
