BEGIN:VCALENDAR
VERSION:2.0
PRODID:SchoolNow
CALSCALE:GREGORIAN
BEGIN:VEVENT
UID:186b2690-104d-11ee-8bba-0e399338071b
DTSTAMP:20230621T160300Z
SUMMARY:No School  - Teacher Institute Day
URL;VALUE=URI:https://www.niles71.org/about-us/calendar/4417725/no-school-t
 eacher-institute-day
DTSTART;VALUE=DATE:20231101
DTEND;VALUE=DATE:20231102
END:VEVENT
END:VCALENDAR
