BEGIN:VCALENDAR
VERSION:2.0
PRODID:SchoolNow
CALSCALE:GREGORIAN
BEGIN:VEVENT
UID:17db32e2-1066-11ee-a6a1-0e14414dd41b
DTSTAMP:20230621T190156Z
SUMMARY:No School  - Parent/Teacher Conferences
URL;VALUE=URI:https://www.niles71.org/about-us/calendar/4418830/no-school-p
 arent-teacher-conferences
DTSTART;VALUE=DATE:20231121
DTEND;VALUE=DATE:20231122
END:VEVENT
END:VCALENDAR
