BEGIN:VCALENDAR
VERSION:2.0
PRODID:SchoolNow
CALSCALE:GREGORIAN
BEGIN:VEVENT
UID:2ac98e30-1066-11ee-abf3-0e14414dd41b
DTSTAMP:20230621T190228Z
SUMMARY:No School  - Not in Attendance
URL;VALUE=URI:https://www.niles71.org/about-us/calendar/4418831/no-school-n
 ot-in-attendance
DTSTART;VALUE=DATE:20231122
DTEND;VALUE=DATE:20231123
END:VEVENT
END:VCALENDAR
