BEGIN:VCALENDAR
VERSION:2.0
PRODID:SchoolNow
CALSCALE:GREGORIAN
BEGIN:VEVENT
UID:419bc59c-1066-11ee-bac2-0e14414dd41b
DTSTAMP:20230621T190306Z
SUMMARY:No School  - Thanksgiving
URL;VALUE=URI:https://www.niles71.org/about-us/calendar/4418832/no-school-t
 hanksgiving
DTSTART;VALUE=DATE:20231123
DTEND;VALUE=DATE:20231124
END:VEVENT
END:VCALENDAR
