BEGIN:VCALENDAR
VERSION:2.0
PRODID:SchoolNow
CALSCALE:GREGORIAN
BEGIN:VEVENT
UID:62e898a6-1066-11ee-9558-0e14414dd41b
DTSTAMP:20230621T210652Z
SUMMARY:No School  - Not in Attendance
URL;VALUE=URI:https://www.niles71.org/about-us/calendar/4418833/no-school-n
 ot-in-attendance
DTSTART;VALUE=DATE:20231124
DTEND;VALUE=DATE:20231125
END:VEVENT
END:VCALENDAR
