BEGIN:VCALENDAR
VERSION:2.0
PRODID:SchoolNow
CALSCALE:GREGORIAN
BEGIN:VEVENT
UID:b1e18a08-1066-11ee-ad30-0e14414dd41b
DTSTAMP:20230621T190615Z
SUMMARY:Winter Break - 12/25/23 - 1/5/24
URL;VALUE=URI:https://www.niles71.org/about-us/calendar/4418834/winter-brea
 k-12-25-23-1-5-24
DTSTART;VALUE=DATE:20231225
DTEND;VALUE=DATE:20240106
END:VEVENT
END:VCALENDAR
