BEGIN:VCALENDAR
VERSION:2.0
PRODID:SchoolNow
CALSCALE:GREGORIAN
BEGIN:VEVENT
UID:337babfc-1071-11ee-8fb2-0e399338071b
DTSTAMP:20230621T202127Z
SUMMARY:No School  - Martin Luther King Jr. Day
URL;VALUE=URI:https://www.niles71.org/about-us/calendar/4418859/no-school-m
 artin-luther-king-jr-day
DTSTART;VALUE=DATE:20240115
DTEND;VALUE=DATE:20240116
END:VEVENT
END:VCALENDAR
