BEGIN:VCALENDAR
VERSION:2.0
PRODID:SchoolNow
CALSCALE:GREGORIAN
BEGIN:VEVENT
UID:227d5c7e-1139-11ee-89b4-027af5c91315
DTSTAMP:20230622T201238Z
SUMMARY:No School - Parent/Teacher Conferences
URL;VALUE=URI:https://www.niles71.org/about-us/calendar/4422639/no-school-p
 arent-teacher-conferences
DTSTART;VALUE=DATE:20240215
DTEND;VALUE=DATE:20240216
END:VEVENT
END:VCALENDAR
