BEGIN:VCALENDAR
VERSION:2.0
PRODID:SchoolNow
CALSCALE:GREGORIAN
BEGIN:VEVENT
UID:3d74de6c-1139-11ee-a47f-027af5c91315
DTSTAMP:20230622T201323Z
SUMMARY:No School - Teacher Institute Day
URL;VALUE=URI:https://www.niles71.org/about-us/calendar/4422640/no-school-t
 eacher-institute-day
DTSTART;VALUE=DATE:20240216
DTEND;VALUE=DATE:20240217
END:VEVENT
END:VCALENDAR
