BEGIN:VCALENDAR
VERSION:2.0
PRODID:SchoolNow
CALSCALE:GREGORIAN
BEGIN:VEVENT
UID:56dae004-1139-11ee-b0a8-027af5c91315
DTSTAMP:20230622T201406Z
SUMMARY:No School - President's Day
URL;VALUE=URI:https://www.niles71.org/about-us/calendar/4422641/no-school-p
 residents-day
DTSTART;VALUE=DATE:20240219
DTEND;VALUE=DATE:20240220
END:VEVENT
END:VCALENDAR
