BEGIN:VCALENDAR
VERSION:2.0
PRODID:SchoolNow
CALSCALE:GREGORIAN
BEGIN:VEVENT
UID:8bb9cb96-1139-11ee-bb40-027af5c91315
DTSTAMP:20230622T201535Z
SUMMARY:Spring Break- March 25 - March 29
URL;VALUE=URI:https://www.niles71.org/about-us/calendar/4422642/spring-brea
 k-march-25-march-29
DTSTART;VALUE=DATE:20240325
DTEND;VALUE=DATE:20240330
END:VEVENT
END:VCALENDAR
