BEGIN:VCALENDAR
VERSION:2.0
PRODID:SchoolNow
CALSCALE:GREGORIAN
BEGIN:VEVENT
UID:e1938f8e-1139-11ee-be0d-027af5c91315
DTSTAMP:20230622T201759Z
SUMMARY:No School - Memorial Day
URL;VALUE=URI:https://www.niles71.org/about-us/calendar/4422643/no-school-m
 emorial-day
DTSTART;VALUE=DATE:20240527
DTEND;VALUE=DATE:20240528
END:VEVENT
END:VCALENDAR
