BEGIN:VCALENDAR
VERSION:2.0
PRODID:SchoolNow
CALSCALE:GREGORIAN
BEGIN:VEVENT
UID:b088de8e-113a-11ee-9e7e-027af5c91315
DTSTAMP:20230622T202346Z
SUMMARY:Early Release Day @ 11:30am
URL;VALUE=URI:https://www.niles71.org/about-us/calendar/4422647/early-relea
 se-day-11-30am
DTSTART;VALUE=DATE:20231120
DTEND;VALUE=DATE:20231121
END:VEVENT
END:VCALENDAR
