BEGIN:VCALENDAR
VERSION:2.0
PRODID:SchoolNow
CALSCALE:GREGORIAN
BEGIN:VEVENT
UID:bba08eb6-113a-11ee-9636-027af5c91315
DTSTAMP:20230622T202404Z
SUMMARY:Early Release Day @ 11:30am
URL;VALUE=URI:https://www.niles71.org/about-us/calendar/4422648/early-relea
 se-day-11-30am
DTSTART;VALUE=DATE:20231222
DTEND;VALUE=DATE:20231223
END:VEVENT
END:VCALENDAR
