BEGIN:VCALENDAR
VERSION:2.0
PRODID:SchoolNow
CALSCALE:GREGORIAN
BEGIN:VEVENT
UID:cca47f4c-113a-11ee-b61a-027af5c91315
DTSTAMP:20230622T202433Z
SUMMARY:Early Release Day @ 11:30am
URL;VALUE=URI:https://www.niles71.org/about-us/calendar/4422649/early-relea
 se-day-11-30am
DTSTART;VALUE=DATE:20240126
DTEND;VALUE=DATE:20240127
END:VEVENT
END:VCALENDAR
