BEGIN:VCALENDAR
VERSION:2.0
PRODID:SchoolNow
CALSCALE:GREGORIAN
BEGIN:VEVENT
UID:d6c796b2-113a-11ee-a365-027af5c91315
DTSTAMP:20230622T202450Z
SUMMARY:Early Release Day @ 11:30am
URL;VALUE=URI:https://www.niles71.org/about-us/calendar/4422650/early-relea
 se-day-11-30am
DTSTART;VALUE=DATE:20240322
DTEND;VALUE=DATE:20240323
END:VEVENT
END:VCALENDAR
