BEGIN:VCALENDAR
VERSION:2.0
PRODID:SchoolNow
CALSCALE:GREGORIAN
BEGIN:VEVENT
UID:e29a9b92-113a-11ee-b2b7-027af5c91315
DTSTAMP:20230622T202510Z
SUMMARY:Early Release Day @ 11:30am
URL;VALUE=URI:https://www.niles71.org/about-us/calendar/4422651/early-relea
 se-day-11-30am
DTSTART;VALUE=DATE:20240426
DTEND;VALUE=DATE:20240427
END:VEVENT
END:VCALENDAR
