BEGIN:VCALENDAR
VERSION:2.0
PRODID:SchoolNow
CALSCALE:GREGORIAN
BEGIN:VEVENT
UID:ee9d9282-113a-11ee-8ec7-027af5c91315
DTSTAMP:20230622T202530Z
SUMMARY:Early Release Day @ 11:30am
URL;VALUE=URI:https://www.niles71.org/about-us/calendar/4422652/early-relea
 se-day-11-30am
DTSTART;VALUE=DATE:20240524
DTEND;VALUE=DATE:20240525
END:VEVENT
END:VCALENDAR
