BEGIN:VCALENDAR
VERSION:2.0
PRODID:SchoolNow
CALSCALE:GREGORIAN
BEGIN:VEVENT
UID:39c3accc-298d-11ef-9efa-0a58a9feac02
DTSTAMP:20240708T164153Z
SUMMARY:Board of Education Meeting
URL;VALUE=URI:https://www.niles71.org/about-us/calendar/6117281/board-of-ed
 ucation-meeting
DTSTART:20240723T190000Z
DTEND:20240723T200000Z
END:VEVENT
END:VCALENDAR
