BEGIN:VCALENDAR
VERSION:2.0
PRODID:SchoolNow
CALSCALE:GREGORIAN
BEGIN:VEVENT
UID:b9cb7378-298d-11ef-bd0b-0a58a9feac02
DTSTAMP:20240613T140335Z
SUMMARY:Board of Education Meeting
URL;VALUE=URI:https://www.niles71.org/about-us/calendar/6117283/board-of-ed
 ucation-meeting
DTSTART:20240917T190000Z
DTEND:20240917T200000Z
END:VEVENT
END:VCALENDAR
