BEGIN:VCALENDAR
VERSION:2.0
PRODID:SchoolNow
CALSCALE:GREGORIAN
BEGIN:VEVENT
UID:8e5e7da6-298e-11ef-a673-0a58a9feac02
DTSTAMP:20240613T140932Z
SUMMARY:Board of Education Meeting
URL;VALUE=URI:https://www.niles71.org/about-us/calendar/6117284/board-of-ed
 ucation-meeting
DTSTART:20241015T190000Z
DTEND:20241015T200000Z
END:VEVENT
END:VCALENDAR
