BEGIN:VCALENDAR
VERSION:2.0
PRODID:SchoolNow
CALSCALE:GREGORIAN
BEGIN:VEVENT
UID:a73d988e-298e-11ef-8ea8-0a58a9feac02
DTSTAMP:20240613T141013Z
SUMMARY:Board of Education Meeting
URL;VALUE=URI:https://www.niles71.org/about-us/calendar/6117285/board-of-ed
 ucation-meeting
DTSTART:20241119T190000Z
DTEND:20241119T200000Z
END:VEVENT
END:VCALENDAR
