BEGIN:VCALENDAR
VERSION:2.0
PRODID:SchoolNow
CALSCALE:GREGORIAN
BEGIN:VEVENT
UID:bc452a6c-298e-11ef-a831-0a58a9feac02
DTSTAMP:20240613T153215Z
SUMMARY:Board of Education Meeting
URL;VALUE=URI:https://www.niles71.org/about-us/calendar/6117286/board-of-ed
 ucation-meeting
DTSTART:20241210T160000Z
DTEND:20241210T170000Z
END:VEVENT
END:VCALENDAR
