BEGIN:VCALENDAR
VERSION:2.0
PRODID:SchoolNow
CALSCALE:GREGORIAN
BEGIN:VEVENT
UID:7fc9c5d8-298f-11ef-adf6-0affee69e5df
DTSTAMP:20240613T141617Z
SUMMARY:Board of Education Meeting
URL;VALUE=URI:https://www.niles71.org/about-us/calendar/6117288/board-of-ed
 ucation-meeting
DTSTART:20250218T190000Z
DTEND:20250218T200000Z
END:VEVENT
END:VCALENDAR
