BEGIN:VCALENDAR
VERSION:2.0
PRODID:SchoolNow
CALSCALE:GREGORIAN
BEGIN:VEVENT
UID:a4a9d4c4-298f-11ef-9f8f-0a58a9feac02
DTSTAMP:20240613T141719Z
SUMMARY:Board of Education Meeting
URL;VALUE=URI:https://www.niles71.org/about-us/calendar/6117289/board-of-ed
 ucation-meeting
DTSTART:20250318T190000Z
DTEND:20250318T200000Z
END:VEVENT
END:VCALENDAR
