BEGIN:VCALENDAR
VERSION:2.0
PRODID:SchoolNow
CALSCALE:GREGORIAN
BEGIN:VEVENT
UID:be9a965c-298f-11ef-88da-0a58a9feac02
DTSTAMP:20240613T141816Z
SUMMARY:Board of Education Meeting
URL;VALUE=URI:https://www.niles71.org/about-us/calendar/6117290/board-of-ed
 ucation-meeting
DTSTART:20240415T190000Z
DTEND:20240415T200000Z
END:VEVENT
END:VCALENDAR
