BEGIN:VCALENDAR
VERSION:2.0
PRODID:SchoolNow
CALSCALE:GREGORIAN
BEGIN:VEVENT
UID:11fbb47e-2991-11ef-bb67-0eeb7d49f869
DTSTAMP:20240613T142732Z
SUMMARY:Preschool Information Night
URL;VALUE=URI:https://www.niles71.org/about-us/calendar/6117294/preschool-i
 nformation-night
DTSTART:20240829T160000Z
DTEND:20240829T170000Z
END:VEVENT
END:VCALENDAR
