BEGIN:VCALENDAR
VERSION:2.0
PRODID:SchoolNow
CALSCALE:GREGORIAN
BEGIN:VEVENT
UID:42bcb554-2991-11ef-a855-0a58a9feac02
DTSTAMP:20240613T142952Z
SUMMARY:First Day of School Grades 1-8
URL;VALUE=URI:https://www.niles71.org/about-us/calendar/6117295/first-day-o
 f-school
DTSTART:20240903T142800Z
DTEND:20240903T152800Z
END:VEVENT
END:VCALENDAR
