BEGIN:VCALENDAR
VERSION:2.0
PRODID:SchoolNow
CALSCALE:GREGORIAN
BEGIN:VEVENT
UID:848df57e-2991-11ef-9581-0a58a9feac02
DTSTAMP:20240613T143044Z
SUMMARY:Kindergarten Information Night
URL;VALUE=URI:https://www.niles71.org/about-us/calendar/6117297/kindergarte
 n-information-night
DTSTART:20240903T173000Z
DTEND:20240903T183000Z
END:VEVENT
END:VCALENDAR
