BEGIN:VCALENDAR
VERSION:2.0
PRODID:SchoolNow
CALSCALE:GREGORIAN
BEGIN:VEVENT
UID:ac12fd4c-2991-11ef-9b0c-0a58a9feac02
DTSTAMP:20240613T143150Z
SUMMARY:Kindergarten Parent/Student Orientation
URL;VALUE=URI:https://www.niles71.org/about-us/calendar/6117298/kindergarte
 n-parent-student-orientation
DTSTART:20240904T143000Z
DTEND:20240904T153000Z
END:VEVENT
END:VCALENDAR
