BEGIN:VCALENDAR
VERSION:2.0
PRODID:SchoolNow
CALSCALE:GREGORIAN
BEGIN:VEVENT
UID:0910a62a-2992-11ef-a0de-0a58a9feac02
DTSTAMP:20240613T143426Z
SUMMARY:First Full Day of School for Kindergarten
URL;VALUE=URI:https://www.niles71.org/about-us/calendar/6117299/first-full-
 day-of-school-for-kindergarten
DTSTART:20240905T143200Z
DTEND:20240905T153200Z
END:VEVENT
END:VCALENDAR
