BEGIN:VCALENDAR
VERSION:2.0
PRODID:SchoolNow
CALSCALE:GREGORIAN
BEGIN:VEVENT
UID:d70bbe3e-2992-11ef-bf17-0affda807e4b
DTSTAMP:20240613T144012Z
SUMMARY:First Day of School for Preschool
URL;VALUE=URI:https://www.niles71.org/about-us/calendar/6117302/first-day-o
 f-school-for-preschool
DTSTART:20240903T143900Z
DTEND:20240903T153900Z
END:VEVENT
END:VCALENDAR
