BEGIN:VCALENDAR
VERSION:2.0
PRODID:SchoolNow
CALSCALE:GREGORIAN
BEGIN:VEVENT
UID:c59db2e6-2993-11ef-b6df-0a58a9feac02
DTSTAMP:20240613T145412Z
SUMMARY:No School - Teacher Institute Day
URL;VALUE=URI:https://www.niles71.org/about-us/calendar/6117304/teacher-ins
 titute-day
DTSTART:20240829T144400Z
DTEND:20240829T154400Z
END:VEVENT
END:VCALENDAR
