BEGIN:VCALENDAR
VERSION:2.0
PRODID:SchoolNow
CALSCALE:GREGORIAN
BEGIN:VEVENT
UID:710872ba-2994-11ef-820d-0a58a9feac02
DTSTAMP:20240613T145338Z
SUMMARY:No School - Teacher Institute Day
URL;VALUE=URI:https://www.niles71.org/about-us/calendar/6117305/teacher-ins
 titute-day
DTSTART:20240830T145000Z
DTEND:20240830T155000Z
END:VEVENT
END:VCALENDAR
