BEGIN:VCALENDAR
VERSION:2.0
PRODID:SchoolNow
CALSCALE:GREGORIAN
BEGIN:VEVENT
UID:8b162364-2994-11ef-8ecc-0a58a9feac02
DTSTAMP:20240613T145434Z
SUMMARY:No School - Labor Day
URL;VALUE=URI:https://www.niles71.org/about-us/calendar/6117306/labor-day
DTSTART:20240902T145100Z
DTEND:20240902T155100Z
END:VEVENT
END:VCALENDAR
