BEGIN:VCALENDAR
VERSION:2.0
PRODID:SchoolNow
CALSCALE:GREGORIAN
BEGIN:VEVENT
UID:182b604e-2999-11ef-bc08-0eeb7d49f869
DTSTAMP:20240613T165213Z
SUMMARY:No School - Teacher Institute Day
URL;VALUE=URI:https://www.niles71.org/about-us/calendar/6117308/no-school-t
 eacher-institute
DTSTART:20241101T152400Z
DTEND:20241101T162400Z
END:VEVENT
END:VCALENDAR
