BEGIN:VCALENDAR
VERSION:2.0
PRODID:SchoolNow
CALSCALE:GREGORIAN
BEGIN:VEVENT
UID:3079d234-2999-11ef-a4fb-0a58a9feac02
DTSTAMP:20240613T152539Z
SUMMARY:No School - Not in Attendance
URL;VALUE=URI:https://www.niles71.org/about-us/calendar/6117310/no-school-n
 ot-in-attendance
DTSTART:20241105T152500Z
DTEND:20241105T162500Z
END:VEVENT
END:VCALENDAR
