BEGIN:VCALENDAR
VERSION:2.0
PRODID:SchoolNow
CALSCALE:GREGORIAN
BEGIN:VEVENT
UID:4e8a2c10-2999-11ef-8ea8-02e09b97ddb7
DTSTAMP:20240613T165440Z
SUMMARY:No School - Parent/Teacher Conferences
URL;VALUE=URI:https://www.niles71.org/about-us/calendar/6117311/no-school-p
 arent-teacher-conference
DTSTART:20241126T152500Z
DTEND:20241126T162500Z
END:VEVENT
END:VCALENDAR
